BEGIN:VCALENDAR
METHOD:PUBLISH
VERSION:2.0
PRODID:-//Eventilla iCal Syndication//NONSGML Liana//EN
BEGIN:VEVENT
UID:4NL33@eventilla.com
DTSTAMP:20260505T053000Z
DTSTART:20260505T053000Z
DTEND:20260505T130000Z
SUMMARY:Yhdessä kohti inklusiivista ammatillista koulutusta -seminaari
DESCRIPTION:Tervetuloa juhlistamaan INKLU-hankkeen päätöstä seminaarissa\, jossa pureudutaan siihen\, miten inklusiivisuutta voidaan edistää ammatillisessa koulutuksessa.\nPäivän aikana kuullaan asiantuntijapuheenvuoroja\, osallistutaan työpajoihin ja nautitaan taiteellisista esityksistä. Teemoina ovat muun muassa koulutuksen rakenteet\, henkilöstön osaaminen ja opettajankoulutus. Seminaari huipentuu yhteiseen keskusteluun inklusiivisen koulutuksen tulevaisuudesta. Tapahtuman juontavat Antti Pitkänen ja Tiina Takku.\nTule mukaan jakamaan oivalluksia ja rakentamaan saavutettavampaa koulutusta kaikille!\nTämä tilaisuus on osa Erityisen äärellä -seminaarisarjaa erityisen tuen asioista kiinnostuneille ammatillisten oppilaitosten ja ammattikorkeakoulujen opetus- ja ohjaushenkilöstölle sekä muille asiasta kiinnostuneille. Erityisen äärellä -seminaareja järjestetään ammatillisten opettajakorkeakoulujen yhteistyönä.\n 
LOCATION:Hotelli Lasaretti\, Kasarmintie 13b\, 90130\, Oulu
URL:http://tapahtuma.oamk.fi/event/4NL33
END:VEVENT
END:VCALENDAR
