BEGIN:VCALENDAR
METHOD:PUBLISH
VERSION:2.0
PRODID:-//Eventilla iCal Syndication//NONSGML Liana//EN
BEGIN:VEVENT
UID:57kBL@eventilla.com
DTSTAMP:20260505T140000Z
DTSTART:20260505T140000Z
DTEND:20260505T160000Z
SUMMARY:Ruoka osana kulttuurielÃ¤myksiÃ¤
DESCRIPTION:Tervetuloa mukaan Arctic Food Corneriin!\nTilaisuudessa pureudutaan siihen\, miten ruokakulttuuri voi vahvistaa matkakohteen identiteettiÃ¤ ja tuoda lisÃ¤arvoa kulttuurimatkailun tuotteisiin. Ohjelma tarjoaa evÃ¤itÃ¤ siihen\, miten paikallisuus\, autenttisuus ja tarinat voivat erottua kilpailussa ja rikastaa yritysten palvelukokonaisuutta.\nTarjoilemme myÃ¶s Arctic Food Lab -herkkuja!\nTilaisuuden sisÃ¤ltÃ¶:\n\nArctic Food Lab -verkoston hyÃ¶dyt yrityksille / Matti Moller\, Oulu2026\nArctic Food Plus -hankkeen tyÃ¶kalupakki ruoka- ja matkailuyrityksille / Heidi Ã\nlander\, OamkÂ \nTarinaa ja tunnetta! Paikallisuutta\, taidetta ja kulttuuria ruokaelÃ¤myksissÃ¤ / Anne KalliomÃ¤ki\, Tarinakone (etÃ¤nÃ¤)\nNopea ideointityÃ¶paja: miten ruokaa ja kulttuurielÃ¤myksiÃ¤ voisi yhdistÃ¤Ã¤? Arctic Food Plus -tiimiÂ \n\nTilaisuus on suunnattu kulttuuri- ja matkailualan yrityksille\, ravintoloille\, kahviloille\, catering-yrityksille ja muille ruoka-alan toimijoille Pohjois-Pohjanmaalla ja Kainuussa.Â \nTilaisuuden jÃ¤rjestÃ¤Ã¤ Arctic Food Plus -hanke (Euroopan maaseuturahasto)\, jonka toteuttavat Oulun ammattikorkeakoulu\, Oulun kulttuurisÃ¤Ã¤tiÃ¶ ja Kajaanin ammattikorkeakoulu. Rahoituksen on myÃ¶ntÃ¤nyt Pohjois-Pohjanmaan ELY-keskus\, jonka tehtÃ¤viÃ¤ hoitaa nykyisin Pohjois-Suomen elinvoimakeskus.\nArctic Food Plus -hankkeen tavoitteena on ruokamatkailun vetovoiman kehittÃ¤minen Pohjois-Pohjanmaalla ja Kainuussa.\n
LOCATION:Wanha Pankki\, Rahatie 2\, 85100\, Kalajoki
URL:http://tapahtuma.oamk.fi/kalajoki
END:VEVENT
END:VCALENDAR
