BEGIN:VCALENDAR
METHOD:PUBLISH
VERSION:2.0
PRODID:-//Eventilla iCal Syndication//NONSGML Liana//EN
BEGIN:VEVENT
UID:8E05k@eventilla.com
DTSTAMP:20260504T053000Z
DTSTART:20260504T053000Z
DTEND:20260504T100000Z
SUMMARY:HTAKasvu -hankkeen väliseminaari
DESCRIPTION:HTAKasvu -hankkeen väliseminaari 4.5.2026\nPaikka: Kontinkankaan kampus\, OamkHybriditilaisuus\nTule mukaan HTAKasvu‑hankkeen väliseminaariin!\nTervetuloa kuulemaan ajankohtaisinta tietoa digitaalisten ratkaisujen arvioinnista\, käytettävyydestä ja tulevaisuuden osaamistarpeista. HTAKasvu‑hankkeen väliseminaari kokoaa yhteen alan asiantuntijat ja tarjoaa mahdollisuuden verkostoitumiseen sekä uusien ajatusten herättämiseen.\nVäliseminaari tarjoaa tuoreinta tietoa digitaalisten ratkaisujen arvioinnista\, käytettävyyden tutkimuksesta ja koulutuksen kehittämisestä. Lisäksi pääset kuulemaan hankkeen etenemisestä ja näkemään Oamkin uudet immersiiviset oppimisympäristöt käytännössä.\nTule inspiroitumaan\, oppimaan ja rakentamaan yhdessä tulevaisuuden HTA‑osaamista! Osallistuminen on maksutonta.\n \nOhjelma\nKlo 8.30-9.00 Kahvit\nKlo 9.00-9.15 Tervetuloa väliseminaariin: Arja Rantala\, Oamk\nKlo 9.15-9.30 Kokemuksia hankkeen opintojaksoista: Sanna Laine ja Hilkka Korpi Oamk\nKlo 9.30–10.00 Fincchta ja digitaalisten ratkaisujen arviointien tulevaisuus: Petra Falkenbach Pohde\nKlo 10–10.45 Ihmisten kognitio ja digitaalisten ratkaisujen käytettävyys: Teemu Mustola Pohde\nKlo 10.45–11.00 Missä mennään HTAKasvu -hankkeessa: Projektipäällikkö Eija Metsälä Metropolia amk\nKlo 11–12 Lounas Ravintola Alwarissa\nKlo 12–13 Oamkin uusiin immersiivisiin tiloihin tutustuminen: kehittämispäällikkö Mika Paldanius\, Oamk
LOCATION:Oamk, Kontinkankaan kampus\, Kiviharjuntie 4\, 90220\, Oulu\,
 Suomi
URL:http://tapahtuma.oamk.fi/event/8E05k
END:VEVENT
END:VCALENDAR
