BEGIN:VCALENDAR
METHOD:PUBLISH
VERSION:2.0
PRODID:-//Eventilla iCal Syndication//NONSGML Liana//EN
BEGIN:VEVENT
UID:AX5py@eventilla.com
DTSTAMP:20250521T060000Z
DTSTART:20250521T060000Z
DTEND:20250521T100000Z
SUMMARY:Ruokamatkailun tarinallistaminen - Syöte
DESCRIPTION:Pohjoisten makujen matkassa! Ruokatarinat asiakkaiden koettavaksi\nTarinallistamisen valmennuksissa tunnistetaan yhteistä tarinaa ja viedään oman yrityksen tarinallistamista käytäntöön.\nMissä ja miten asiakas kohtaa yrityksesi ruokatarinan?\nTapahtumassa pääset työstämään sekä yhteistä Arctic Food Lab -tarinaa\, että oman yrityksen ruokatuotteen ja/tai ruokaelämyksen tarinallistamista niin tuotteistamisen kuin digitaalisen markkinoinnin näkökulmasta.\nTarinallistamisessa meitä auttaa Suomen kokenein tarinallistaja Anne Kalliomäki Tarinakone Oy:sta. \n \nOhjelma:\n9-9:45 Johdantoluento tarinallistamiseen: havainnollistavat esimerkit antavat inspiraatiota oman ruokatuotteen tai ruokaelämyksen tarinallistamiseen.\n9:45-11:15 Arctic Food Lab tarinan ideointi yhdessä: millä tarinalla erotumme?\n11:15-12:45 Oman yrityksen tarinataulu: missä ja miten asiakas kohtaa ruokatarinani\n12:45-13:00 Loppukeskustelu: minkä tarinateon voin viedä heti käytäntöön?\n \nTarjoamme tilaisuudessa kahvit ja pientä syötävää. Voimme ottaa työpajaan mukaan 25 osallistujaa.\nKohderyhmä: ruoka- ja matkailuyritykset Pohjois-Pohjanmaalla ja Kainuussa.\n \nTilaisuuden järjestää Arctic Food Plus -hanke (EU:n maaseuturahoitus)\, jonka toteuttavat Oulun ammattikorkeakoulu\, Oulun kulttuurisäätiö ja Kajaanin ammattikorkeakoulu. Rahoituksen on myöntänyt Pohjois-Pohjanmaan ELY-keskus.\nArctic Food Plus -hankkeen tavoitteena on ruokamatkailun vetovoiman kehittäminen Pohjois-Pohjanmaalla ja Kainuussa.\n\nKuva: Arctic Food Lab\, Lauri Kaikkonen
LOCATION:KIDE Hotel by Iso-Syöte\, Romekievarintie 6\, 93280\, Syöte
URL:http://tapahtuma.oamk.fi/tarinallistaminen3
END:VEVENT
END:VCALENDAR
