BEGIN:VCALENDAR
METHOD:PUBLISH
VERSION:2.0
PRODID:-//Eventilla iCal Syndication//NONSGML Liana//EN
BEGIN:VEVENT
UID:RGN6P@eventilla.com
DTSTAMP:20260417T140000Z
DTSTART:20260417T140000Z
DTEND:20260419T190000Z
SUMMARY:Startup Weekend Oulu Spring 2026
DESCRIPTION:Startup Weekend Oulu is held from 17th to 19th of April\, 2026 in Business Corner Linnanmaa. \nYour ticket will cover the entire weekend:\n\n7 tasty meals\nt-shirt\npitching and validation workshops \nmentoring sessions \nafter party \n\nDon't wait any longer\, the tickets fly fast! Get yours and join with other aspiring entrepreneurs. 
LOCATION:Business Corner, Oamk\, Yliopistokatu 9\, 90570\, Oulu
URL:http://tapahtuma.oamk.fi/event/RGN6P
END:VEVENT
END:VCALENDAR
