BEGIN:VCALENDAR
METHOD:PUBLISH
VERSION:2.0
PRODID:-//Eventilla iCal Syndication//NONSGML Liana//EN
BEGIN:VEVENT
UID:VEMql@eventilla.com
DTSTAMP:20250514T070000Z
DTSTART:20250514T070000Z
DTEND:20250514T110000Z
SUMMARY:Google-yritysprofiilit kuntoon! - Kajaani
DESCRIPTION:Tiesitkö\, että Google on ruokaan liittyvien yritysten tärkein markkinointikanava?\nSen lisäksi\, että yritysprofiilin tiedot ovat ajan tasalla\, tulee profiilin olla vetovoimainen. Mutta miten tehdään asiakkaita houkutteleva Google-yritysprofiili?\nTule mukaan Arctic Food Corner -tilaisuuteen\, jossa laitamme ruoka- ja matkailuyritysten Google-profiilit kuntoon. Lisäksi pääset verkostoitumaan alueen yritysten kanssa.\nVoit osallistua paikan päällä\, jolloin saat apua tilaisuuden kouluttajalta\, tai verkossa pelkkään luento-osuuteen. Tarjoamme paikan päällä osallistuville myös verkostoitumislounaan.\nKouluttajana toimii Marjo Ranta-Irwin / Blueberry Consulting.\n \nOhjelma:\n10:00-11:00 Millainen on vetovoimainen Google-yritysprofiili? (Hybridi)\n11:00-13:00 Klinikka: Kouluttaja auttaa käytännön kysymyksissä\n+ Arctic Food Lab -sopimusklinikka\n13:00 Verkostoitumislounas \n \nEnnakkotehtävänä osallistujia pyydetään tekemään Google-rekisteröityminen valmiiksi.\nPääset samansisältöiseen Oulussa 29.4. järjestettävään tilaisuuteen tästä.\nTarjoamme tilaisuudessa lounaan. Voimme ottaa paikan päälle mukaan 25 osallistujaa.\nKohderyhmä: ruoka- ja matkailuyritykset Pohjois-Pohjanmaalla ja Kainuussa.\n \nTilaisuuden järjestää Arctic Food Plus -hanke (EU:n maaseuturahoitus)\, jonka toteuttavat Oulun ammattikorkeakoulu\, Oulun kulttuurisäätiö ja Kajaanin ammattikorkeakoulu. Rahoituksen on myöntänyt Pohjois-Pohjanmaan ELY-keskus.\nArctic Food Plus -hankkeen tavoitteena on ruokamatkailun vetovoiman kehittäminen Pohjois-Pohjanmaalla ja Kainuussa.\n\nKuva: Arctic Food Lab
LOCATION:Sokos Hotel Valjus\, Kauppakatu 20\, 87100\, Kajaani
URL:http://tapahtuma.oamk.fi/google2
END:VEVENT
END:VCALENDAR
