BEGIN:VCALENDAR
METHOD:PUBLISH
VERSION:2.0
PRODID:-//Eventilla iCal Syndication//NONSGML Liana//EN
BEGIN:VEVENT
UID:ed9G6@eventilla.com
DTSTAMP:20250429T060000Z
DTSTART:20250429T060000Z
DTEND:20250429T090000Z
SUMMARY:Google-yritysprofiilit kuntoon! - Oulu
DESCRIPTION:Tiesitkö\, että Google on ruokaan liittyvien yritysten tärkein markkinointikanava?\nSen lisäksi\, että yritysprofiilin tiedot ovat ajan tasalla\, tulee profiilin olla vetovoimainen. Mutta miten tehdään asiakkaita houkutteleva Google-yritysprofiili?\nTule mukaan Arctic Food Corner -tilaisuuteen\, jossa laitamme ruoka- ja matkailuyritysten Google-profiilit kuntoon. Lisäksi pääset verkostoitumaan alueen yritysten kanssa.\nVoit osallistua paikan päällä\, jolloin saat apua tilaisuuden kouluttajalta\, tai verkossa pelkkään luento-osuuteen.\nKouluttajana toimii Marjo Ranta-Irwin / Blueberry Consulting.\n \nOhjelma:\n9:00-10:00 Millainen on vetovoimainen Google-yritysprofiili? (Hybridi)\n10:00-12:00 Klinikka: Kouluttaja auttaa käytännön kysymyksissä\n+ Arctic Food Lab -sopimusklinikka\n \nEnnakkotehtävänä osallistujia pyydetään tekemään Google-rekisteröityminen valmiiksi.\nTarjoamme tilaisuudessa kahvit ja pientä syötävää. Voimme ottaa paikan päälle mukaan 25 osallistujaa.\nKohderyhmä: ruoka- ja matkailuyritykset Pohjois-Pohjanmaalla ja Kainuussa.\nPääset samansisältöiseen tapahtumaan 14.5. Kajaanissa tästä.\nTilaisuuden järjestää Arctic Food Plus -hanke (EU:n maaseuturahoitus)\, jonka toteuttavat Oulun ammattikorkeakoulu\, Oulun kulttuurisäätiö ja Kajaanin ammattikorkeakoulu. Rahoituksen on myöntänyt Pohjois-Pohjanmaan ELY-keskus.\nArctic Food Plus -hankkeen tavoitteena on ruokamatkailun vetovoiman kehittäminen Pohjois-Pohjanmaalla ja Kainuussa.\n\nKuva: Arctic Food Lab
LOCATION:De Gamlas Hem\, Kirkkokatu 54\, 90120\, Oulu
URL:http://tapahtuma.oamk.fi/google1
END:VEVENT
END:VCALENDAR
