BEGIN:VCALENDAR
METHOD:PUBLISH
VERSION:2.0
PRODID:-//Eventilla iCal Syndication//NONSGML Liana//EN
BEGIN:VEVENT
UID:oJ9GL@eventilla.com
DTSTAMP:20241114T100000Z
DTSTART:20241114T100000Z
DTEND:20241114T130000Z
SUMMARY:Sähköturvallisuustutkinto 14.11.2024 (TUKES)
DESCRIPTION:Ilmoittautuminen sähköturvallisuustutkintoon\nOulun ammattikorkeakoulu järjestää 14.11.2024 klo 12 TUKESin sähköturvallisuustutkinnon SP1 ja SP2.Tutkintotilaisuus järjestetään Oulun ammattikorkeakoulun ja Oulun yliopiston yhteiskampuksella osoitteessa: Yliopistokatu 9\, 90570 OULU.\nTarkemmat saapumisohjeet lähetetään ilmoittautuneille sähköpostitse.Sähköturvallisuustutkinto suoritetaan sähköisessä eTentti-oppimisympäristössä valvotusti. Kannattaa ilmoittautua riittävän ajoissa\, sillä ilmoittauduttuasi saat tunnuksen\, jonka avulla pääset tutustumaan käytössä olevaan selainpohjaiseen eTentti-alustaan hyvissä ajoin ennen tutkintotilaisuuttaSitova ilmoittautuminen tutkintoon on tehtävä viimeistään 11.11.2024 klo 16:00 mennessä. Ilmoittautumismaksua ei palauteta.\nYhteyshenkilöt:Marko Kukkola: marko.kukkola@oamk.fiEnsio Sieppi: ensio.sieppi@oamk.fi\nLisätietoa sähköturvallisuustutkinnosta ja tutkinnon materiaalista löytyy TUKESin sivuilta oheisesta linkistä: https://tukes.fi/asiointi/ilmoittaudu-tutkintoon-tai-tenttiin/sahkoturvallisuustutkinnot
LOCATION:Oulun ammattikorkeakoulu, Linnanmaan kampus\, Yliopistokatu 9\,
 90570\, Oulu
URL:http://tapahtuma.oamk.fi/sahkoturvallisuustutkinto
END:VEVENT
END:VCALENDAR
