BEGIN:VCALENDAR
METHOD:PUBLISH
VERSION:2.0
PRODID:-//Eventilla iCal Syndication//NONSGML Liana//EN
BEGIN:VEVENT
UID:ryLga@eventilla.com
DTSTAMP:20250919T060000Z
DTSTART:20250919T060000Z
DTEND:20250919T131500Z
SUMMARY:LikisPro: Ruokalahjatuotteet ja rajat ylittävä yhteistyö
DESCRIPTION:Tervetuloa Likiksen ammattilaispäivään!\n \nAamupäivän ohjelmassa kuulemme puheenvuoroja ruokalahjatuotteiden suunnitteluun liittyvissä teemoissa: pakkauksen visuaalinen ilme ja lain vaatimat pakkausmerkinnät\, sekä case-esimerkkinä Arctic Food Labissa toteutettu yritysyhteistyö. Olemme varanneet aikaa myös verkostoitumiselle.\nIltapäivällä siirrymme rajat ylittävään yhteistyöhön\, ja kuulemme case-esimerkkejä ja puheenvuoroja ruokasektorilta liittyen mm. myyntikanaviin ja logistiikkaan. Tilaisuus on kaksikielinen (suomi ja ruotsi) ja se myös tulkataan. Iltapäivällä on mahdollisuus verkostoitua myös ruotsalaisten yrittäjäkollegojen kanssa.\nSekä aamu- että iltapäivään on mahdollisuus osallistua osittain myös etänä. Tilaisuus on maksuton (lounas omakustanteinen). Voit osallistua oman kiinnostukseksi mukaan koko päivän ohjelmaan\, tai pelkkään aamu- tai iltapäivään.\n\nOhjelma\n \nAamupäivä: Ruokalahjatuotteiden pakkaussuunnittelu\n \n8:30-9:00 Kahvit ja ilmoittautuminen\n9:00-10:30 Ruokalahjatuotteiden visuaalinen ilme ja lain vaatimat pakkausmerkinnät\, Samuli Kiirikki\n10:30-10:45 Tauko\n10:45-11:15 Arctic Food Lab -yritysyhteistyön ja -tuotemerkin hyödyt\, Pasi Ruuskanen\, Oulu2026\n11:15-12:00 Arctic Food Lab -ruokaverkoston tapaaminen\, vapaata verkostoitumista paikan päällä osallistuville\n \n12:00-13:30 Lounas (omakustanteinen)\n \nIltapäivä: Rajat ylittävä yhteistyö ruokasektorilla\n \n13:30-13:40 Tervetuloa!\n13:40-14:00 Työskentely rajan molemmin puolin omassa yrityksessä\, Roger Niemi\, Tornedalens renprodukter\n14:00-14:20 Kohti rajat ylittävää yhteistyötä – verkkokaupan ja logistiikan avaukset\, Jani Mäläskä\, Kuljetus J. Mäläskä Oy\n14:20-14:30 Tornionjokilaakson elintarvikeviennin logistiikka ja haasteet \, Ari-Pekka Juuso\, Oulun Maa- ja kotitalousnaiset\, ProAgria Pohjois-Suomi\n14:30-14:45 Kokemuksia Pajalan markkinoista\, Henna Kukkonen\, Lapin ammattikorkeakoulu\n14:45-15:05 Kohokohdat ClimateFood data dashboardista ja yrityshaastatteluista\, Oulun yliopisto\, Kerttu Saalasti Instituutti\n15:05-15:20 Kahvitauko\n15:20-16:15 Työpaja paikan päällä osallistuville\n \nVoit myös ilmoittautua 20.9. klo 16-18 pidettävään Pizzaa ja palautetta -tilaisuuteen. Tilaisuus on suunnattu Likikseen osallistuville yrityksille ja kehittäjille ja se järjestetään Oamkin tiloissa Linnanmaalla.\nLikisPro-tilaisuuden järjestävät Arctic Food Plus -hanke (aamupäivä)\, Climate Food -hanke ja Eväitä elämään - luonnollisesti Lapista -hanke (iltapäivä). Pizza ja palaute -tilaisuuden järjestävät Parasta paikallista pöytiin -hanke\, Climate Food -hanke ja Likis\, Oamk/Luonnonvara-ala.\n\nKuva: Arctic Food Lab\, Lauri Kaikkonen
LOCATION:Oulun ammattikorkeakoulu, Linnanmaan kampus, Venue\,
 Yliopistokatu 9\, 90570\, Oulu
URL:http://tapahtuma.oamk.fi/likispro2025
END:VEVENT
END:VCALENDAR
